BEGIN:VCALENDAR
VERSION:2.0
PRODID:-//FamilyForward - ECPv6.15.20//NONSGML v1.0//EN
CALSCALE:GREGORIAN
METHOD:PUBLISH
X-WR-CALNAME:FamilyForward
X-ORIGINAL-URL:https://familyforwardmo.org
X-WR-CALDESC:Events for FamilyForward
REFRESH-INTERVAL;VALUE=DURATION:PT1H
X-Robots-Tag:noindex
X-PUBLISHED-TTL:PT1H
BEGIN:VTIMEZONE
TZID:America/Chicago
BEGIN:DAYLIGHT
TZOFFSETFROM:-0600
TZOFFSETTO:-0500
TZNAME:CDT
DTSTART:20230312T080000
END:DAYLIGHT
BEGIN:STANDARD
TZOFFSETFROM:-0500
TZOFFSETTO:-0600
TZNAME:CST
DTSTART:20231105T070000
END:STANDARD
BEGIN:DAYLIGHT
TZOFFSETFROM:-0600
TZOFFSETTO:-0500
TZNAME:CDT
DTSTART:20240310T080000
END:DAYLIGHT
BEGIN:STANDARD
TZOFFSETFROM:-0500
TZOFFSETTO:-0600
TZNAME:CST
DTSTART:20241103T070000
END:STANDARD
BEGIN:DAYLIGHT
TZOFFSETFROM:-0600
TZOFFSETTO:-0500
TZNAME:CDT
DTSTART:20250309T080000
END:DAYLIGHT
BEGIN:STANDARD
TZOFFSETFROM:-0500
TZOFFSETTO:-0600
TZNAME:CST
DTSTART:20251102T070000
END:STANDARD
END:VTIMEZONE
BEGIN:VEVENT
DTSTART;TZID=America/Chicago:20240506T180000
DTEND;TZID=America/Chicago:20240506T200000
DTSTAMP:20260419T102528
CREATED:20240322T142409Z
LAST-MODIFIED:20240322T142409Z
UID:10000114-1715018400-1715025600@familyforwardmo.org
SUMMARY:Managing Placement Transitions
DESCRIPTION:From the catalog of the National Training and Development Curriculum (NTDC) Right Time Training\, this class offers an overview of the impact transitions\, both planned and unplanned\, have on children who have experienced trauma\, loss\, or separation. The theme delves into strategies for managing disruptions and making children feel welcomed and connected before\, during\, and after transitions occur. To register\, call 314.968.2350 ext. 7234 or email intake.dept@familyforwardmo.org.
URL:https://familyforwardmo.org/calendar/managing-placement-transitions/
CATEGORIES:Adoptive and Foster Parent Trainings
END:VEVENT
END:VCALENDAR