BEGIN:VCALENDAR
VERSION:2.0
PRODID:-//FamilyForward - ECPv6.15.20//NONSGML v1.0//EN
CALSCALE:GREGORIAN
METHOD:PUBLISH
X-ORIGINAL-URL:https://familyforwardmo.org
X-WR-CALDESC:Events for FamilyForward
REFRESH-INTERVAL;VALUE=DURATION:PT1H
X-Robots-Tag:noindex
X-PUBLISHED-TTL:PT1H
BEGIN:VTIMEZONE
TZID:America/Chicago
BEGIN:DAYLIGHT
TZOFFSETFROM:-0600
TZOFFSETTO:-0500
TZNAME:CDT
DTSTART:20230312T080000
END:DAYLIGHT
BEGIN:STANDARD
TZOFFSETFROM:-0500
TZOFFSETTO:-0600
TZNAME:CST
DTSTART:20231105T070000
END:STANDARD
BEGIN:DAYLIGHT
TZOFFSETFROM:-0600
TZOFFSETTO:-0500
TZNAME:CDT
DTSTART:20240310T080000
END:DAYLIGHT
BEGIN:STANDARD
TZOFFSETFROM:-0500
TZOFFSETTO:-0600
TZNAME:CST
DTSTART:20241103T070000
END:STANDARD
BEGIN:DAYLIGHT
TZOFFSETFROM:-0600
TZOFFSETTO:-0500
TZNAME:CDT
DTSTART:20250309T080000
END:DAYLIGHT
BEGIN:STANDARD
TZOFFSETFROM:-0500
TZOFFSETTO:-0600
TZNAME:CST
DTSTART:20251102T070000
END:STANDARD
END:VTIMEZONE
BEGIN:VEVENT
DTSTART;TZID=America/Chicago:20240928T120000
DTEND;TZID=America/Chicago:20240928T140000
DTSTAMP:20260422T041007
CREATED:20240924T175256Z
LAST-MODIFIED:20240924T175308Z
UID:10000157-1727524800-1727532000@familyforwardmo.org
SUMMARY:Community Baby Shower
DESCRIPTION:Visit FamilyForward’s table at the Community Baby Shower! This free event\, made possible by the generous donors of the Foundation for Barnes-Jewish Hospital and supported by the St. Louis County Department of Public Health\, is designed to provide you with valuable information and resources for a healthy pregnancy and family life. \nThere will be food\, games\, prizes\, education\, health screenings\, and other essential resources for new and expecting families. \nView the event flyer and registration link here ›
URL:https://familyforwardmo.org/calendar/community-baby-shower/
LOCATION:North County Recreation Complex\, 2577 Redman Ave.\, St. Louis\, MO\, 63136\, United States
END:VEVENT
END:VCALENDAR