BEGIN:VCALENDAR
VERSION:2.0
PRODID:-//FamilyForward - ECPv6.15.20//NONSGML v1.0//EN
CALSCALE:GREGORIAN
METHOD:PUBLISH
X-WR-CALNAME:FamilyForward
X-ORIGINAL-URL:https://familyforwardmo.org
X-WR-CALDESC:Events for FamilyForward
REFRESH-INTERVAL;VALUE=DURATION:PT1H
X-Robots-Tag:noindex
X-PUBLISHED-TTL:PT1H
BEGIN:VTIMEZONE
TZID:America/Chicago
BEGIN:DAYLIGHT
TZOFFSETFROM:-0600
TZOFFSETTO:-0500
TZNAME:CDT
DTSTART:20250309T080000
END:DAYLIGHT
BEGIN:STANDARD
TZOFFSETFROM:-0500
TZOFFSETTO:-0600
TZNAME:CST
DTSTART:20251102T070000
END:STANDARD
BEGIN:DAYLIGHT
TZOFFSETFROM:-0600
TZOFFSETTO:-0500
TZNAME:CDT
DTSTART:20260308T080000
END:DAYLIGHT
BEGIN:STANDARD
TZOFFSETFROM:-0500
TZOFFSETTO:-0600
TZNAME:CST
DTSTART:20261101T070000
END:STANDARD
BEGIN:DAYLIGHT
TZOFFSETFROM:-0600
TZOFFSETTO:-0500
TZNAME:CDT
DTSTART:20270314T080000
END:DAYLIGHT
BEGIN:STANDARD
TZOFFSETFROM:-0500
TZOFFSETTO:-0600
TZNAME:CST
DTSTART:20271107T070000
END:STANDARD
END:VTIMEZONE
BEGIN:VEVENT
DTSTART;TZID=America/Chicago:20260609T180000
DTEND;TZID=America/Chicago:20260609T210000
DTSTAMP:20260422T052357
CREATED:20260409T144334Z
LAST-MODIFIED:20260415T221941Z
UID:10000395-1781028000-1781038800@familyforwardmo.org
SUMMARY:Parenting A Child Who Has Experienced Sexual Abuse
DESCRIPTION:Two Virtual Sessions (three hours each) June 9 and June 16. \nParenting a child with a history of sexual abuse can be frightening—from responding to the child’s acting out behavior to dealing with emotions.  Discussions focus on the best ways to minimize the trauma and help your child heal. Sex trafficking will be explored in the training. This is a two-week class\, attendance at both weeks is strongly encouraged. \nThese classes will be held online and a link to the class will be sent out ahead of time.
URL:https://familyforwardmo.org/calendar/parenting-a-child-who-has-experienced-sexual-abuse/2026-06-09/
LOCATION:Virtual Event
CATEGORIES:Adoptive and Foster Parent Trainings
END:VEVENT
BEGIN:VEVENT
DTSTART;TZID=America/Chicago:20260616T180000
DTEND;TZID=America/Chicago:20260616T210000
DTSTAMP:20260422T052357
CREATED:20260409T144334Z
LAST-MODIFIED:20260415T221941Z
UID:10000400-1781632800-1781643600@familyforwardmo.org
SUMMARY:Parenting A Child Who Has Experienced Sexual Abuse
DESCRIPTION:Two Virtual Sessions (three hours each) June 9 and June 16. \nParenting a child with a history of sexual abuse can be frightening—from responding to the child’s acting out behavior to dealing with emotions.  Discussions focus on the best ways to minimize the trauma and help your child heal. Sex trafficking will be explored in the training. This is a two-week class\, attendance at both weeks is strongly encouraged. \nThese classes will be held online and a link to the class will be sent out ahead of time.
URL:https://familyforwardmo.org/calendar/parenting-a-child-who-has-experienced-sexual-abuse/2026-06-16/
LOCATION:Virtual Event
CATEGORIES:Adoptive and Foster Parent Trainings
END:VEVENT
BEGIN:VEVENT
DTSTART;TZID=America/Chicago:20260629T180000
DTEND;TZID=America/Chicago:20260629T210000
DTSTAMP:20260422T052357
CREATED:20260409T144645Z
LAST-MODIFIED:20260415T222058Z
UID:10000396-1782756000-1782766800@familyforwardmo.org
SUMMARY:Caregiver Who Knows the Child Relative
DESCRIPTION:Three Virtual Sessions (three hours each) June 29\, July 6\, and July 13. \nIn Missouri\, the STARS training for Caregiver Who Knows the Child is a required program for relatives and kinship providers to be licensed.  The training typically consists of 9 hours of instruction and covers essential topics such as child development\, parenting skills\, and protective factors. \nThese classes will be held online and a link to the class will be sent out ahead of time.
URL:https://familyforwardmo.org/calendar/caregiver-who-knows-the-child-relative/2026-06-29/
LOCATION:Virtual Event
CATEGORIES:Adoptive and Foster Parent Trainings
END:VEVENT
END:VCALENDAR