BEGIN:VCALENDAR
VERSION:2.0
PRODID:-//FamilyForward - ECPv6.15.20//NONSGML v1.0//EN
CALSCALE:GREGORIAN
METHOD:PUBLISH
X-WR-CALNAME:FamilyForward
X-ORIGINAL-URL:https://familyforwardmo.org
X-WR-CALDESC:Events for FamilyForward
REFRESH-INTERVAL;VALUE=DURATION:PT1H
X-Robots-Tag:noindex
X-PUBLISHED-TTL:PT1H
BEGIN:VTIMEZONE
TZID:America/Chicago
BEGIN:DAYLIGHT
TZOFFSETFROM:-0600
TZOFFSETTO:-0500
TZNAME:CDT
DTSTART:20210314T080000
END:DAYLIGHT
BEGIN:STANDARD
TZOFFSETFROM:-0500
TZOFFSETTO:-0600
TZNAME:CST
DTSTART:20211107T070000
END:STANDARD
BEGIN:DAYLIGHT
TZOFFSETFROM:-0600
TZOFFSETTO:-0500
TZNAME:CDT
DTSTART:20220313T080000
END:DAYLIGHT
BEGIN:STANDARD
TZOFFSETFROM:-0500
TZOFFSETTO:-0600
TZNAME:CST
DTSTART:20221106T070000
END:STANDARD
BEGIN:DAYLIGHT
TZOFFSETFROM:-0600
TZOFFSETTO:-0500
TZNAME:CDT
DTSTART:20230312T080000
END:DAYLIGHT
BEGIN:STANDARD
TZOFFSETFROM:-0500
TZOFFSETTO:-0600
TZNAME:CST
DTSTART:20231105T070000
END:STANDARD
END:VTIMEZONE
BEGIN:VEVENT
DTSTART;TZID=America/Chicago:20220425T180000
DTEND;TZID=America/Chicago:20220425T210000
DTSTAMP:20260422T173527
CREATED:20220401T014741Z
LAST-MODIFIED:20220401T014741Z
UID:10000052-1650909600-1650920400@familyforwardmo.org
SUMMARY:Road to Recovery: Supporting Children with IDD Who Have Experienced Trauma
DESCRIPTION:This six-module curriculum developed by the National Child Traumatic Stress Network explores the complexities of parenting a child with Intellectual or Developmental Disabilities (IDD) with the view toward recovery from trauma for this population. Using knowledge learned through this offering\, foster parents can better advocate for a child’s safety\, well-being\, happiness\, and recovery through trauma-informed practice and move away from the strict behavior containment and compliance often used with the IDD population.
URL:https://familyforwardmo.org/calendar/road-to-recovery/2022-04-25/
LOCATION:FamilyForward – Creve Coeur Site\, 1167 Corporate Lake Dr\, Saint Louis\, MO\, 63132-1716\, United States
CATEGORIES:Adoptive and Foster Parent Trainings
END:VEVENT
BEGIN:VEVENT
DTSTART;TZID=America/Chicago:20220421T180000
DTEND;TZID=America/Chicago:20220421T210000
DTSTAMP:20260422T173527
CREATED:20211223T152200Z
LAST-MODIFIED:20211223T152200Z
UID:10000049-1650564000-1650574800@familyforwardmo.org
SUMMARY:STARS Classes
DESCRIPTION:This is the mandatory preservice training for foster care licensure in the state of Missouri.  Registration will only be accepted through Children’s Division.
URL:https://familyforwardmo.org/calendar/stars-classes-2/2022-04-21/
LOCATION:FamilyForward – Creve Coeur Site\, 1167 Corporate Lake Dr\, Saint Louis\, MO\, 63132-1716\, United States
CATEGORIES:Adoptive and Foster Parent Trainings
END:VEVENT
BEGIN:VEVENT
DTSTART;TZID=America/Chicago:20220418T180000
DTEND;TZID=America/Chicago:20220418T210000
DTSTAMP:20260422T173527
CREATED:20220401T014741Z
LAST-MODIFIED:20220401T014741Z
UID:10000051-1650304800-1650315600@familyforwardmo.org
SUMMARY:Road to Recovery: Supporting Children with IDD Who Have Experienced Trauma
DESCRIPTION:This six-module curriculum developed by the National Child Traumatic Stress Network explores the complexities of parenting a child with Intellectual or Developmental Disabilities (IDD) with the view toward recovery from trauma for this population. Using knowledge learned through this offering\, foster parents can better advocate for a child’s safety\, well-being\, happiness\, and recovery through trauma-informed practice and move away from the strict behavior containment and compliance often used with the IDD population.
URL:https://familyforwardmo.org/calendar/road-to-recovery/2022-04-18/
LOCATION:FamilyForward – Creve Coeur Site\, 1167 Corporate Lake Dr\, Saint Louis\, MO\, 63132-1716\, United States
CATEGORIES:Adoptive and Foster Parent Trainings
END:VEVENT
BEGIN:VEVENT
DTSTART;TZID=America/Chicago:20220414T180000
DTEND;TZID=America/Chicago:20220414T210000
DTSTAMP:20260422T173527
CREATED:20211223T152200Z
LAST-MODIFIED:20211223T152200Z
UID:10000048-1649959200-1649970000@familyforwardmo.org
SUMMARY:STARS Classes
DESCRIPTION:This is the mandatory preservice training for foster care licensure in the state of Missouri.  Registration will only be accepted through Children’s Division.
URL:https://familyforwardmo.org/calendar/stars-classes-2/2022-04-14/
LOCATION:FamilyForward – Creve Coeur Site\, 1167 Corporate Lake Dr\, Saint Louis\, MO\, 63132-1716\, United States
CATEGORIES:Adoptive and Foster Parent Trainings
END:VEVENT
BEGIN:VEVENT
DTSTART;TZID=America/Chicago:20220407T180000
DTEND;TZID=America/Chicago:20220407T210000
DTSTAMP:20260422T173527
CREATED:20211223T152200Z
LAST-MODIFIED:20211223T152200Z
UID:10000047-1649354400-1649365200@familyforwardmo.org
SUMMARY:STARS Classes
DESCRIPTION:This is the mandatory preservice training for foster care licensure in the state of Missouri.  Registration will only be accepted through Children’s Division.
URL:https://familyforwardmo.org/calendar/stars-classes-2/2022-04-07/
LOCATION:FamilyForward – Creve Coeur Site\, 1167 Corporate Lake Dr\, Saint Louis\, MO\, 63132-1716\, United States
CATEGORIES:Adoptive and Foster Parent Trainings
END:VEVENT
BEGIN:VEVENT
DTSTART;TZID=America/Chicago:20220331T180000
DTEND;TZID=America/Chicago:20220331T210000
DTSTAMP:20260422T173527
CREATED:20211223T152200Z
LAST-MODIFIED:20211223T152200Z
UID:10000046-1648749600-1648760400@familyforwardmo.org
SUMMARY:STARS Classes
DESCRIPTION:This is the mandatory preservice training for foster care licensure in the state of Missouri.  Registration will only be accepted through Children’s Division.
URL:https://familyforwardmo.org/calendar/stars-classes-2/2022-03-31/
LOCATION:FamilyForward – Creve Coeur Site\, 1167 Corporate Lake Dr\, Saint Louis\, MO\, 63132-1716\, United States
CATEGORIES:Adoptive and Foster Parent Trainings
END:VEVENT
BEGIN:VEVENT
DTSTART;TZID=America/Chicago:20220324T180000
DTEND;TZID=America/Chicago:20220324T210000
DTSTAMP:20260422T173527
CREATED:20211223T152200Z
LAST-MODIFIED:20211223T152200Z
UID:10000045-1648144800-1648155600@familyforwardmo.org
SUMMARY:STARS Classes
DESCRIPTION:This is the mandatory preservice training for foster care licensure in the state of Missouri.  Registration will only be accepted through Children’s Division.
URL:https://familyforwardmo.org/calendar/stars-classes-2/2022-03-24/
LOCATION:FamilyForward – Creve Coeur Site\, 1167 Corporate Lake Dr\, Saint Louis\, MO\, 63132-1716\, United States
CATEGORIES:Adoptive and Foster Parent Trainings
END:VEVENT
BEGIN:VEVENT
DTSTART;TZID=America/Chicago:20220317T180000
DTEND;TZID=America/Chicago:20220317T210000
DTSTAMP:20260422T173527
CREATED:20211223T152200Z
LAST-MODIFIED:20211223T152200Z
UID:10000044-1647540000-1647550800@familyforwardmo.org
SUMMARY:STARS Classes
DESCRIPTION:This is the mandatory preservice training for foster care licensure in the state of Missouri.  Registration will only be accepted through Children’s Division.
URL:https://familyforwardmo.org/calendar/stars-classes-2/2022-03-17/
LOCATION:FamilyForward – Creve Coeur Site\, 1167 Corporate Lake Dr\, Saint Louis\, MO\, 63132-1716\, United States
CATEGORIES:Adoptive and Foster Parent Trainings
END:VEVENT
BEGIN:VEVENT
DTSTART;TZID=America/Chicago:20220310T180000
DTEND;TZID=America/Chicago:20220310T210000
DTSTAMP:20260422T173527
CREATED:20211223T152200Z
LAST-MODIFIED:20211223T152200Z
UID:10000043-1646935200-1646946000@familyforwardmo.org
SUMMARY:STARS Classes
DESCRIPTION:This is the mandatory preservice training for foster care licensure in the state of Missouri.  Registration will only be accepted through Children’s Division.
URL:https://familyforwardmo.org/calendar/stars-classes-2/2022-03-10/
LOCATION:FamilyForward – Creve Coeur Site\, 1167 Corporate Lake Dr\, Saint Louis\, MO\, 63132-1716\, United States
CATEGORIES:Adoptive and Foster Parent Trainings
END:VEVENT
BEGIN:VEVENT
DTSTART;TZID=America/Chicago:20220308T180000
DTEND;TZID=America/Chicago:20220308T210000
DTSTAMP:20260422T173527
CREATED:20211223T151746Z
LAST-MODIFIED:20211223T151746Z
UID:10000037-1646762400-1646773200@familyforwardmo.org
SUMMARY:STARS Classes
DESCRIPTION:This is the mandatory preservice training for foster care licensure in the state of Missouri.  Registration will only be accepted through Children’s Division.
URL:https://familyforwardmo.org/calendar/stars-classes/2022-03-08/
LOCATION:FamilyForward – Creve Coeur Site\, 1167 Corporate Lake Dr\, Saint Louis\, MO\, 63132-1716\, United States
CATEGORIES:Adoptive and Foster Parent Trainings
END:VEVENT
BEGIN:VEVENT
DTSTART;TZID=America/Chicago:20220307T180000
DTEND;TZID=America/Chicago:20220307T210000
DTSTAMP:20260422T173527
CREATED:20211223T152020Z
LAST-MODIFIED:20211223T152020Z
UID:10000041-1646676000-1646686800@familyforwardmo.org
SUMMARY:Understanding the Effects of Sexual Abuse
DESCRIPTION:Parenting a child with a history of sexual abuse can be frightening—from responding to the child’s acting out behavior to dealing with emotions. Discussions focus on the best ways to minimize the trauma and help your child heal. The topic of sex trafficking will be explored in the training. This is a two-week class and attendance at both weeks is strongly encouraged.
URL:https://familyforwardmo.org/calendar/understanding-the-effects-of-sexual-abuse/2022-03-07/
LOCATION:FamilyForward – Creve Coeur Site\, 1167 Corporate Lake Dr\, Saint Louis\, MO\, 63132-1716\, United States
END:VEVENT
BEGIN:VEVENT
DTSTART;TZID=America/Chicago:20220303T180000
DTEND;TZID=America/Chicago:20220303T210000
DTSTAMP:20260422T173527
CREATED:20211223T152200Z
LAST-MODIFIED:20211223T152200Z
UID:10000042-1646330400-1646341200@familyforwardmo.org
SUMMARY:STARS Classes
DESCRIPTION:This is the mandatory preservice training for foster care licensure in the state of Missouri.  Registration will only be accepted through Children’s Division.
URL:https://familyforwardmo.org/calendar/stars-classes-2/2022-03-03/
LOCATION:FamilyForward – Creve Coeur Site\, 1167 Corporate Lake Dr\, Saint Louis\, MO\, 63132-1716\, United States
CATEGORIES:Adoptive and Foster Parent Trainings
END:VEVENT
BEGIN:VEVENT
DTSTART;TZID=America/Chicago:20220301T180000
DTEND;TZID=America/Chicago:20220301T210000
DTSTAMP:20260422T173527
CREATED:20211223T151746Z
LAST-MODIFIED:20211223T151746Z
UID:10000036-1646157600-1646168400@familyforwardmo.org
SUMMARY:STARS Classes
DESCRIPTION:This is the mandatory preservice training for foster care licensure in the state of Missouri.  Registration will only be accepted through Children’s Division.
URL:https://familyforwardmo.org/calendar/stars-classes/2022-03-01/
LOCATION:FamilyForward – Creve Coeur Site\, 1167 Corporate Lake Dr\, Saint Louis\, MO\, 63132-1716\, United States
CATEGORIES:Adoptive and Foster Parent Trainings
END:VEVENT
BEGIN:VEVENT
DTSTART;TZID=America/Chicago:20220228T180000
DTEND;TZID=America/Chicago:20220228T210000
DTSTAMP:20260422T173527
CREATED:20211223T152020Z
LAST-MODIFIED:20211223T152020Z
UID:10000040-1646071200-1646082000@familyforwardmo.org
SUMMARY:Understanding the Effects of Sexual Abuse
DESCRIPTION:Parenting a child with a history of sexual abuse can be frightening—from responding to the child’s acting out behavior to dealing with emotions. Discussions focus on the best ways to minimize the trauma and help your child heal. The topic of sex trafficking will be explored in the training. This is a two-week class and attendance at both weeks is strongly encouraged.
URL:https://familyforwardmo.org/calendar/understanding-the-effects-of-sexual-abuse/2022-02-28/
LOCATION:FamilyForward – Creve Coeur Site\, 1167 Corporate Lake Dr\, Saint Louis\, MO\, 63132-1716\, United States
END:VEVENT
BEGIN:VEVENT
DTSTART;TZID=America/Chicago:20220222T180000
DTEND;TZID=America/Chicago:20220222T210000
DTSTAMP:20260422T173527
CREATED:20211223T151746Z
LAST-MODIFIED:20211223T151746Z
UID:10000035-1645552800-1645563600@familyforwardmo.org
SUMMARY:STARS Classes
DESCRIPTION:This is the mandatory preservice training for foster care licensure in the state of Missouri.  Registration will only be accepted through Children’s Division.
URL:https://familyforwardmo.org/calendar/stars-classes/2022-02-22/
LOCATION:FamilyForward – Creve Coeur Site\, 1167 Corporate Lake Dr\, Saint Louis\, MO\, 63132-1716\, United States
CATEGORIES:Adoptive and Foster Parent Trainings
END:VEVENT
BEGIN:VEVENT
DTSTART;TZID=America/Chicago:20220215T180000
DTEND;TZID=America/Chicago:20220215T210000
DTSTAMP:20260422T173527
CREATED:20211223T151746Z
LAST-MODIFIED:20211223T151746Z
UID:10000034-1644948000-1644958800@familyforwardmo.org
SUMMARY:STARS Classes
DESCRIPTION:This is the mandatory preservice training for foster care licensure in the state of Missouri.  Registration will only be accepted through Children’s Division.
URL:https://familyforwardmo.org/calendar/stars-classes/2022-02-15/
LOCATION:FamilyForward – Creve Coeur Site\, 1167 Corporate Lake Dr\, Saint Louis\, MO\, 63132-1716\, United States
CATEGORIES:Adoptive and Foster Parent Trainings
END:VEVENT
BEGIN:VEVENT
DTSTART;TZID=America/Chicago:20220211T100000
DTEND;TZID=America/Chicago:20220211T130000
DTSTAMP:20260422T173527
CREATED:20211223T151856Z
LAST-MODIFIED:20211223T151856Z
UID:10000039-1644573600-1644584400@familyforwardmo.org
SUMMARY:Sensory Processing and Integration
DESCRIPTION:Difficulties with sensory processing are often confused with behavioral problems. Children who have been in foster care or adopted are at a heightened risk of experiencing these challenges. Learn about Sensory Processing Disorder\, its signs and symptoms\, suggested ways that parents and teachers can help\, and resources in the area. This two-part training provides parents with hands-on experience.
URL:https://familyforwardmo.org/calendar/sensory-processing-and-integration-5/2022-02-11/
LOCATION:FamilyForward – Creve Coeur Site\, 1167 Corporate Lake Dr\, Saint Louis\, MO\, 63132-1716\, United States
CATEGORIES:Adoptive and Foster Parent Trainings
END:VEVENT
BEGIN:VEVENT
DTSTART;TZID=America/Chicago:20220210T180000
DTEND;TZID=America/Chicago:20220210T210000
DTSTAMP:20260422T173527
CREATED:20211223T151551Z
LAST-MODIFIED:20211223T151551Z
UID:10000028-1644516000-1644526800@familyforwardmo.org
SUMMARY:Level A-Elevated Needs
DESCRIPTION:This six-week course is required for families that are caring for youth designated as having elevated needs. This training is just one of the curriculums approved by the Children’s Division Central Office; therefore\, all six weeks must be completed at FamilyFoward. Completing this coursework does not automatically qualify a resource parent as a Level A provider\, skill acquisition should be demonstrable within the core competencies.  Registration for this class must be requested by your case worker. FamilyForward will not take the registration from an individual resource provider.
URL:https://familyforwardmo.org/calendar/level-a-elevated-needs-7/2022-02-10/
LOCATION:FamilyForward – Creve Coeur Site\, 1167 Corporate Lake Dr\, Saint Louis\, MO\, 63132-1716\, United States
CATEGORIES:Adoptive and Foster Parent Trainings
END:VEVENT
BEGIN:VEVENT
DTSTART;TZID=America/Chicago:20220208T180000
DTEND;TZID=America/Chicago:20220208T210000
DTSTAMP:20260422T173527
CREATED:20211223T151746Z
LAST-MODIFIED:20211223T151746Z
UID:10000033-1644343200-1644354000@familyforwardmo.org
SUMMARY:STARS Classes
DESCRIPTION:This is the mandatory preservice training for foster care licensure in the state of Missouri.  Registration will only be accepted through Children’s Division.
URL:https://familyforwardmo.org/calendar/stars-classes/2022-02-08/
LOCATION:FamilyForward – Creve Coeur Site\, 1167 Corporate Lake Dr\, Saint Louis\, MO\, 63132-1716\, United States
CATEGORIES:Adoptive and Foster Parent Trainings
END:VEVENT
BEGIN:VEVENT
DTSTART;TZID=America/Chicago:20220204T100000
DTEND;TZID=America/Chicago:20220204T130000
DTSTAMP:20260422T173527
CREATED:20211223T151856Z
LAST-MODIFIED:20211223T151856Z
UID:10000038-1643968800-1643979600@familyforwardmo.org
SUMMARY:Sensory Processing and Integration
DESCRIPTION:Difficulties with sensory processing are often confused with behavioral problems. Children who have been in foster care or adopted are at a heightened risk of experiencing these challenges. Learn about Sensory Processing Disorder\, its signs and symptoms\, suggested ways that parents and teachers can help\, and resources in the area. This two-part training provides parents with hands-on experience.
URL:https://familyforwardmo.org/calendar/sensory-processing-and-integration-5/2022-02-04/
LOCATION:FamilyForward – Creve Coeur Site\, 1167 Corporate Lake Dr\, Saint Louis\, MO\, 63132-1716\, United States
CATEGORIES:Adoptive and Foster Parent Trainings
END:VEVENT
BEGIN:VEVENT
DTSTART;TZID=America/Chicago:20220203T180000
DTEND;TZID=America/Chicago:20220203T210000
DTSTAMP:20260422T173527
CREATED:20211223T151551Z
LAST-MODIFIED:20211223T151551Z
UID:10000027-1643911200-1643922000@familyforwardmo.org
SUMMARY:Level A-Elevated Needs
DESCRIPTION:This six-week course is required for families that are caring for youth designated as having elevated needs. This training is just one of the curriculums approved by the Children’s Division Central Office; therefore\, all six weeks must be completed at FamilyFoward. Completing this coursework does not automatically qualify a resource parent as a Level A provider\, skill acquisition should be demonstrable within the core competencies.  Registration for this class must be requested by your case worker. FamilyForward will not take the registration from an individual resource provider.
URL:https://familyforwardmo.org/calendar/level-a-elevated-needs-7/2022-02-03/
LOCATION:FamilyForward – Creve Coeur Site\, 1167 Corporate Lake Dr\, Saint Louis\, MO\, 63132-1716\, United States
CATEGORIES:Adoptive and Foster Parent Trainings
END:VEVENT
BEGIN:VEVENT
DTSTART;TZID=America/Chicago:20220201T180000
DTEND;TZID=America/Chicago:20220201T210000
DTSTAMP:20260422T173527
CREATED:20211223T151746Z
LAST-MODIFIED:20211223T151746Z
UID:10000032-1643738400-1643749200@familyforwardmo.org
SUMMARY:STARS Classes
DESCRIPTION:This is the mandatory preservice training for foster care licensure in the state of Missouri.  Registration will only be accepted through Children’s Division.
URL:https://familyforwardmo.org/calendar/stars-classes/2022-02-01/
LOCATION:FamilyForward – Creve Coeur Site\, 1167 Corporate Lake Dr\, Saint Louis\, MO\, 63132-1716\, United States
CATEGORIES:Adoptive and Foster Parent Trainings
END:VEVENT
BEGIN:VEVENT
DTSTART;TZID=America/Chicago:20220127T180000
DTEND;TZID=America/Chicago:20220127T210000
DTSTAMP:20260422T173527
CREATED:20211223T151551Z
LAST-MODIFIED:20211223T151551Z
UID:10000026-1643306400-1643317200@familyforwardmo.org
SUMMARY:Level A-Elevated Needs
DESCRIPTION:This six-week course is required for families that are caring for youth designated as having elevated needs. This training is just one of the curriculums approved by the Children’s Division Central Office; therefore\, all six weeks must be completed at FamilyFoward. Completing this coursework does not automatically qualify a resource parent as a Level A provider\, skill acquisition should be demonstrable within the core competencies.  Registration for this class must be requested by your case worker. FamilyForward will not take the registration from an individual resource provider.
URL:https://familyforwardmo.org/calendar/level-a-elevated-needs-7/2022-01-27/
LOCATION:FamilyForward – Creve Coeur Site\, 1167 Corporate Lake Dr\, Saint Louis\, MO\, 63132-1716\, United States
CATEGORIES:Adoptive and Foster Parent Trainings
END:VEVENT
BEGIN:VEVENT
DTSTART;TZID=America/Chicago:20220125T180000
DTEND;TZID=America/Chicago:20220125T210000
DTSTAMP:20260422T173527
CREATED:20211223T151746Z
LAST-MODIFIED:20211223T151746Z
UID:10000031-1643133600-1643144400@familyforwardmo.org
SUMMARY:STARS Classes
DESCRIPTION:This is the mandatory preservice training for foster care licensure in the state of Missouri.  Registration will only be accepted through Children’s Division.
URL:https://familyforwardmo.org/calendar/stars-classes/2022-01-25/
LOCATION:FamilyForward – Creve Coeur Site\, 1167 Corporate Lake Dr\, Saint Louis\, MO\, 63132-1716\, United States
CATEGORIES:Adoptive and Foster Parent Trainings
END:VEVENT
BEGIN:VEVENT
DTSTART;TZID=America/Chicago:20220120T180000
DTEND;TZID=America/Chicago:20220120T210000
DTSTAMP:20260422T173527
CREATED:20211223T151551Z
LAST-MODIFIED:20211223T151551Z
UID:10000025-1642701600-1642712400@familyforwardmo.org
SUMMARY:Level A-Elevated Needs
DESCRIPTION:This six-week course is required for families that are caring for youth designated as having elevated needs. This training is just one of the curriculums approved by the Children’s Division Central Office; therefore\, all six weeks must be completed at FamilyFoward. Completing this coursework does not automatically qualify a resource parent as a Level A provider\, skill acquisition should be demonstrable within the core competencies.  Registration for this class must be requested by your case worker. FamilyForward will not take the registration from an individual resource provider.
URL:https://familyforwardmo.org/calendar/level-a-elevated-needs-7/2022-01-20/
LOCATION:FamilyForward – Creve Coeur Site\, 1167 Corporate Lake Dr\, Saint Louis\, MO\, 63132-1716\, United States
CATEGORIES:Adoptive and Foster Parent Trainings
END:VEVENT
BEGIN:VEVENT
DTSTART;TZID=America/Chicago:20220118T180000
DTEND;TZID=America/Chicago:20220118T210000
DTSTAMP:20260422T173527
CREATED:20211223T151746Z
LAST-MODIFIED:20211223T151746Z
UID:10000030-1642528800-1642539600@familyforwardmo.org
SUMMARY:STARS Classes
DESCRIPTION:This is the mandatory preservice training for foster care licensure in the state of Missouri.  Registration will only be accepted through Children’s Division.
URL:https://familyforwardmo.org/calendar/stars-classes/2022-01-18/
LOCATION:FamilyForward – Creve Coeur Site\, 1167 Corporate Lake Dr\, Saint Louis\, MO\, 63132-1716\, United States
CATEGORIES:Adoptive and Foster Parent Trainings
END:VEVENT
BEGIN:VEVENT
DTSTART;TZID=America/Chicago:20220113T180000
DTEND;TZID=America/Chicago:20220113T210000
DTSTAMP:20260422T173527
CREATED:20211223T151551Z
LAST-MODIFIED:20211223T151551Z
UID:10000024-1642096800-1642107600@familyforwardmo.org
SUMMARY:Level A-Elevated Needs
DESCRIPTION:This six-week course is required for families that are caring for youth designated as having elevated needs. This training is just one of the curriculums approved by the Children’s Division Central Office; therefore\, all six weeks must be completed at FamilyFoward. Completing this coursework does not automatically qualify a resource parent as a Level A provider\, skill acquisition should be demonstrable within the core competencies.  Registration for this class must be requested by your case worker. FamilyForward will not take the registration from an individual resource provider.
URL:https://familyforwardmo.org/calendar/level-a-elevated-needs-7/2022-01-13/
LOCATION:FamilyForward – Creve Coeur Site\, 1167 Corporate Lake Dr\, Saint Louis\, MO\, 63132-1716\, United States
CATEGORIES:Adoptive and Foster Parent Trainings
END:VEVENT
BEGIN:VEVENT
DTSTART;TZID=America/Chicago:20220111T180000
DTEND;TZID=America/Chicago:20220111T210000
DTSTAMP:20260422T173527
CREATED:20211223T151746Z
LAST-MODIFIED:20211223T151746Z
UID:10000029-1641924000-1641934800@familyforwardmo.org
SUMMARY:STARS Classes
DESCRIPTION:This is the mandatory preservice training for foster care licensure in the state of Missouri.  Registration will only be accepted through Children’s Division.
URL:https://familyforwardmo.org/calendar/stars-classes/2022-01-11/
LOCATION:FamilyForward – Creve Coeur Site\, 1167 Corporate Lake Dr\, Saint Louis\, MO\, 63132-1716\, United States
CATEGORIES:Adoptive and Foster Parent Trainings
END:VEVENT
BEGIN:VEVENT
DTSTART;TZID=America/Chicago:20220106T180000
DTEND;TZID=America/Chicago:20220106T210000
DTSTAMP:20260422T173527
CREATED:20211223T151551Z
LAST-MODIFIED:20211223T151551Z
UID:10000023-1641492000-1641502800@familyforwardmo.org
SUMMARY:Level A-Elevated Needs
DESCRIPTION:This six-week course is required for families that are caring for youth designated as having elevated needs. This training is just one of the curriculums approved by the Children’s Division Central Office; therefore\, all six weeks must be completed at FamilyFoward. Completing this coursework does not automatically qualify a resource parent as a Level A provider\, skill acquisition should be demonstrable within the core competencies.  Registration for this class must be requested by your case worker. FamilyForward will not take the registration from an individual resource provider.
URL:https://familyforwardmo.org/calendar/level-a-elevated-needs-7/2022-01-06/
LOCATION:FamilyForward – Creve Coeur Site\, 1167 Corporate Lake Dr\, Saint Louis\, MO\, 63132-1716\, United States
CATEGORIES:Adoptive and Foster Parent Trainings
END:VEVENT
END:VCALENDAR