BEGIN:VCALENDAR
VERSION:2.0
PRODID:-//FamilyForward - ECPv6.15.20//NONSGML v1.0//EN
CALSCALE:GREGORIAN
METHOD:PUBLISH
X-WR-CALNAME:FamilyForward
X-ORIGINAL-URL:https://familyforwardmo.org
X-WR-CALDESC:Events for FamilyForward
REFRESH-INTERVAL;VALUE=DURATION:PT1H
X-Robots-Tag:noindex
X-PUBLISHED-TTL:PT1H
BEGIN:VTIMEZONE
TZID:America/Chicago
BEGIN:DAYLIGHT
TZOFFSETFROM:-0600
TZOFFSETTO:-0500
TZNAME:CDT
DTSTART:20230312T080000
END:DAYLIGHT
BEGIN:STANDARD
TZOFFSETFROM:-0500
TZOFFSETTO:-0600
TZNAME:CST
DTSTART:20231105T070000
END:STANDARD
BEGIN:DAYLIGHT
TZOFFSETFROM:-0600
TZOFFSETTO:-0500
TZNAME:CDT
DTSTART:20240310T080000
END:DAYLIGHT
BEGIN:STANDARD
TZOFFSETFROM:-0500
TZOFFSETTO:-0600
TZNAME:CST
DTSTART:20241103T070000
END:STANDARD
BEGIN:DAYLIGHT
TZOFFSETFROM:-0600
TZOFFSETTO:-0500
TZNAME:CDT
DTSTART:20250309T080000
END:DAYLIGHT
BEGIN:STANDARD
TZOFFSETFROM:-0500
TZOFFSETTO:-0600
TZNAME:CST
DTSTART:20251102T070000
END:STANDARD
END:VTIMEZONE
BEGIN:VEVENT
DTSTART;TZID=America/Chicago:20240711T180000
DTEND;TZID=America/Chicago:20240711T203000
DTSTAMP:20260422T064732
CREATED:20240605T181738Z
LAST-MODIFIED:20240605T181738Z
UID:10000121-1720720800-1720729800@familyforwardmo.org
SUMMARY:Ready\, Set\, Fly
DESCRIPTION:Training for any foster parent interested in providing care for teens and based on the curriculum of the Casey Family Programs. This training is recommended for foster families accepting placements of foster youth aged 14 or older. This is a 2-week course. Attendance for both classes is recommended. To register\, call 314.968.2350 ext. 7234 or email intake.dept@familyforwardmo.org.
URL:https://familyforwardmo.org/calendar/ready-set-fly/
END:VEVENT
BEGIN:VEVENT
DTSTART;TZID=America/Chicago:20240718T180000
DTEND;TZID=America/Chicago:20240718T203000
DTSTAMP:20260422T064732
CREATED:20240605T182040Z
LAST-MODIFIED:20240605T182040Z
UID:10000122-1721325600-1721334600@familyforwardmo.org
SUMMARY:Ready\, Set\, Fly
DESCRIPTION:Training for any foster parent interested in providing care for teens and based on the curriculum of the Casey Family Programs. This training is recommended for foster families accepting placements of foster youth aged 14 or older. This is a 2-week course. Attendance for both classes is recommended. To register\, call 314.968.2350 ext. 7234 or email intake.dept@familyforwardmo.org.
URL:https://familyforwardmo.org/calendar/ready-set-fly-2/
END:VEVENT
BEGIN:VEVENT
DTSTART;TZID=America/Chicago:20240722T180000
DTEND;TZID=America/Chicago:20240722T200000
DTSTAMP:20260422T064732
CREATED:20240605T182435Z
LAST-MODIFIED:20240605T182435Z
UID:10000123-1721671200-1721678400@familyforwardmo.org
SUMMARY:MO Healthy Kids Presentation\, Led by Mary Mogg\, MSW
DESCRIPTION:Show Me Healthy Kids offers several benefits that you may not know about\, such as earning money for well care doctor visits\, transportation services for birth parents to visit their children\, and free sensory kits for some children. Get help as you navigate the healthcare system so members can get the treatments and benefits they need. To register\, call 314.968.2350 ext. 7234 or email intake.dept@familyforwardmo.org.
URL:https://familyforwardmo.org/calendar/mo-healthy-kids-presentation/
END:VEVENT
BEGIN:VEVENT
DTSTART;TZID=America/Chicago:20240724T180000
DTEND;TZID=America/Chicago:20240724T203000
DTSTAMP:20260422T064732
CREATED:20240605T183224Z
LAST-MODIFIED:20240605T183224Z
UID:10000124-1721844000-1721853000@familyforwardmo.org
SUMMARY:Developing Social Skills
DESCRIPTION:Lagging social skills put children at risk for bullying and exclusion. In this 5-hour\, two-week class\, parents will learn how to assist their children in acquiring skills related to social competency. The parent’s role as social coach is explored\, along with social boundaries\, levels of friendship\, and concrete skills related to making and keeping friends.  This class also looks at how to address challenging social situations like bullying\, rumors\, and bad reputations. The importance of active\, intentional involvement on the part of the parent as coach is stressed. To register\, call 314.968.2350 ext. 7234 or email intake.dept@familyforwardmo.org.     
URL:https://familyforwardmo.org/calendar/developing-social-skills/
END:VEVENT
BEGIN:VEVENT
DTSTART;TZID=America/Chicago:20240729T180000
DTEND;TZID=America/Chicago:20240729T210000
DTSTAMP:20260422T064732
CREATED:20240618T143224Z
LAST-MODIFIED:20240618T143224Z
UID:10000134-1722276000-1722286800@familyforwardmo.org
SUMMARY:MO C.A.R.E.
DESCRIPTION:MO C.A.R.E. pre-service training is required of any individual wishing to be licensed as a foster parent through the state of Missouri. Please contact Tonya.Williams@dss.mo.gov for further information and registration.
URL:https://familyforwardmo.org/calendar/mo-c-a-r-e/
CATEGORIES:Adoptive and Foster Parent Trainings
END:VEVENT
BEGIN:VEVENT
DTSTART;TZID=America/Chicago:20240731T180000
DTEND;TZID=America/Chicago:20240731T203000
DTSTAMP:20260422T064732
CREATED:20240605T183352Z
LAST-MODIFIED:20240605T183352Z
UID:10000125-1722448800-1722457800@familyforwardmo.org
SUMMARY:Developing Social Skills
DESCRIPTION:Lagging social skills put children at risk for bullying and exclusion. In this 5-hour\, two-week class\, parents will learn how to assist their children in acquiring skills related to social competency. The parent’s role as social coach is explored\, along with social boundaries\, levels of friendship\, and concrete skills related to making and keeping friends.  This class also looks at how to address challenging social situations like bullying\, rumors\, and bad reputations. The importance of active\, intentional involvement on the part of the parent as coach is stressed. To register\, call 314.968.2350 ext. 7234 or email intake.dept@familyforwardmo.org.     
URL:https://familyforwardmo.org/calendar/developing-social-skills-2/
END:VEVENT
END:VCALENDAR