BEGIN:VCALENDAR
VERSION:2.0
PRODID:-//FamilyForward - ECPv6.15.20//NONSGML v1.0//EN
CALSCALE:GREGORIAN
METHOD:PUBLISH
X-WR-CALNAME:FamilyForward
X-ORIGINAL-URL:https://familyforwardmo.org
X-WR-CALDESC:Events for FamilyForward
REFRESH-INTERVAL;VALUE=DURATION:PT1H
X-Robots-Tag:noindex
X-PUBLISHED-TTL:PT1H
BEGIN:VTIMEZONE
TZID:America/Chicago
BEGIN:DAYLIGHT
TZOFFSETFROM:-0600
TZOFFSETTO:-0500
TZNAME:CDT
DTSTART:20230312T080000
END:DAYLIGHT
BEGIN:STANDARD
TZOFFSETFROM:-0500
TZOFFSETTO:-0600
TZNAME:CST
DTSTART:20231105T070000
END:STANDARD
BEGIN:DAYLIGHT
TZOFFSETFROM:-0600
TZOFFSETTO:-0500
TZNAME:CDT
DTSTART:20240310T080000
END:DAYLIGHT
BEGIN:STANDARD
TZOFFSETFROM:-0500
TZOFFSETTO:-0600
TZNAME:CST
DTSTART:20241103T070000
END:STANDARD
BEGIN:DAYLIGHT
TZOFFSETFROM:-0600
TZOFFSETTO:-0500
TZNAME:CDT
DTSTART:20250309T080000
END:DAYLIGHT
BEGIN:STANDARD
TZOFFSETFROM:-0500
TZOFFSETTO:-0600
TZNAME:CST
DTSTART:20251102T070000
END:STANDARD
END:VTIMEZONE
BEGIN:VEVENT
DTSTART;TZID=America/Chicago:20241108T120000
DTEND;TZID=America/Chicago:20241108T133000
DTSTAMP:20260422T064721
CREATED:20240920T151226Z
LAST-MODIFIED:20240920T151226Z
UID:10000148-1731067200-1731072600@familyforwardmo.org
SUMMARY:Lunch & Learn Virtual ZOOM: Self-Compassion
DESCRIPTION:Self-compassion has become a popular term these days. But what does that mean? Self-compassion is an essential trait that caregivers must learn to practice to sustain themselves through the long\, challenging job of parenting. Understand that being kind to yourself is not selfish but rather a gift you need to give yourself to prevent compassion fatigue. \nTo register\, call 314.968.2350 ext. 7234 or email intake.dept@familyforwardmo.org.
URL:https://familyforwardmo.org/calendar/lunch-learn-virtual-zoom-self-compassion/
LOCATION:
END:VEVENT
BEGIN:VEVENT
DTSTART;TZID=America/Chicago:20241118T180000
DTEND;TZID=America/Chicago:20241118T210000
DTSTAMP:20260422T064721
CREATED:20240920T155027Z
LAST-MODIFIED:20240920T155027Z
UID:10000149-1731952800-1731963600@familyforwardmo.org
SUMMARY:Spaulding/Adoption Training
DESCRIPTION:Spaulding Adoption Training is a twelve-hour course that provides families with the tools and information they need to understand the Missouri adoption process. It is required in Missouri for families to become an adoptive resource for a child. The curriculum covers topics such as cultural competence\, attachment\, expectations\, and working as a member of a professional team. The discussion will include how creating a family through adoption differs from a biological family or foster parenting. The training is facilitated by an experienced adoptive parent and a child welfare professional. \nTo register\, call 314.968.2350 ext. 7234 or email intake.dept@familyforwardmo.org.
URL:https://familyforwardmo.org/calendar/spaulding-adoption-training/
LOCATION:FamilyForward – Developmental Trauma Center\, 11358 Van Cleve Ave.\, Saint Louis\, MO\, 63114\, United States
CATEGORIES:Adoptive and Foster Parent Trainings
END:VEVENT
BEGIN:VEVENT
DTSTART;TZID=America/Chicago:20241119T100000
DTEND;TZID=America/Chicago:20241119T123000
DTSTAMP:20260422T064721
CREATED:20240920T155834Z
LAST-MODIFIED:20240920T155834Z
UID:10000153-1732010400-1732019400@familyforwardmo.org
SUMMARY:Humor in Parenting
DESCRIPTION:Humor is a handy tool in life’s toolbox. When you are parenting children with unique challenges\, it’s especially important not to take yourself too seriously. This class will explore the nature of humor and how to incorporate it into your parenting repertoire. \nTo register\, call 314.968.2350 ext. 7234 or email intake.dept@familyforwardmo.org.
URL:https://familyforwardmo.org/calendar/humor-in-parenting/
LOCATION:FamilyForward – Developmental Trauma Center\, 11358 Van Cleve Ave.\, Saint Louis\, MO\, 63114\, United States
CATEGORIES:Adoptive and Foster Parent Trainings
END:VEVENT
BEGIN:VEVENT
DTSTART;TZID=America/Chicago:20241119T180000
DTEND;TZID=America/Chicago:20241119T200000
DTSTAMP:20260422T064721
CREATED:20240920T160144Z
LAST-MODIFIED:20240920T160144Z
UID:10000154-1732039200-1732046400@familyforwardmo.org
SUMMARY:MO Healthy Kids Presentation\, led by Mary Mogg\, MSW
DESCRIPTION:Show Me Healthy Kids offers several benefits that you may not know about\, such as earning money for well-care doctor visits\, transportation services for birth parents to visit their children\, and free sensory kits for some children. Get help navigating the healthcare system so members can get the treatments and benefits they need. \nTo register\, call 314.968.2350 ext. 7234 or email intake.dept@familyforwardmo.org.
URL:https://familyforwardmo.org/calendar/mo-healthy-kids-presentation-led-by-mary-mogg-msw/
CATEGORIES:Presentations
END:VEVENT
BEGIN:VEVENT
DTSTART;TZID=America/Chicago:20241125T180000
DTEND;TZID=America/Chicago:20241125T210000
DTSTAMP:20260422T064721
CREATED:20240920T155230Z
LAST-MODIFIED:20240920T155443Z
UID:10000150-1732557600-1732568400@familyforwardmo.org
SUMMARY:Spaulding/Adoption Training
DESCRIPTION:Spaulding Adoption Training is a twelve-hour course that provides families with the tools and information they need to understand the Missouri adoption process. It is required in Missouri for families to become an adoptive resource for a child. The curriculum covers topics such as cultural competence\, attachment\, expectations\, and working as a member of a professional team. The discussion will include how creating a family through adoption differs from a biological family or foster parenting. The training is facilitated by an experienced adoptive parent and a child welfare professional. \nTo register\, call 314.968.2350 ext. 7234 or email intake.dept@familyforwardmo.org.
URL:https://familyforwardmo.org/calendar/spaulding-adoption-training-2/
LOCATION:FamilyForward – Developmental Trauma Center\, 11358 Van Cleve Ave.\, Saint Louis\, MO\, 63114\, United States
CATEGORIES:Adoptive and Foster Parent Trainings
END:VEVENT
END:VCALENDAR