BEGIN:VCALENDAR
VERSION:2.0
PRODID:-//FamilyForward - ECPv6.15.20//NONSGML v1.0//EN
CALSCALE:GREGORIAN
METHOD:PUBLISH
X-WR-CALNAME:FamilyForward
X-ORIGINAL-URL:https://familyforwardmo.org
X-WR-CALDESC:Events for FamilyForward
REFRESH-INTERVAL;VALUE=DURATION:PT1H
X-Robots-Tag:noindex
X-PUBLISHED-TTL:PT1H
BEGIN:VTIMEZONE
TZID:America/Chicago
BEGIN:DAYLIGHT
TZOFFSETFROM:-0600
TZOFFSETTO:-0500
TZNAME:CDT
DTSTART:20250309T080000
END:DAYLIGHT
BEGIN:STANDARD
TZOFFSETFROM:-0500
TZOFFSETTO:-0600
TZNAME:CST
DTSTART:20251102T070000
END:STANDARD
BEGIN:DAYLIGHT
TZOFFSETFROM:-0600
TZOFFSETTO:-0500
TZNAME:CDT
DTSTART:20260308T080000
END:DAYLIGHT
BEGIN:STANDARD
TZOFFSETFROM:-0500
TZOFFSETTO:-0600
TZNAME:CST
DTSTART:20261101T070000
END:STANDARD
BEGIN:DAYLIGHT
TZOFFSETFROM:-0600
TZOFFSETTO:-0500
TZNAME:CDT
DTSTART:20270314T080000
END:DAYLIGHT
BEGIN:STANDARD
TZOFFSETFROM:-0500
TZOFFSETTO:-0600
TZNAME:CST
DTSTART:20271107T070000
END:STANDARD
END:VTIMEZONE
BEGIN:VEVENT
DTSTART;TZID=America/Chicago:20260304T180000
DTEND;TZID=America/Chicago:20260304T210000
DTSTAMP:20260423T035512
CREATED:20251218T051353Z
LAST-MODIFIED:20251218T051353Z
UID:10000382-1772647200-1772658000@familyforwardmo.org
SUMMARY:Level A-Youth with Elevated Needs CORE Teen Curriculum
DESCRIPTION:The content is intended to increase the knowledge and skills of those who will be parenting teens with moderate to severe emotional and behavioral needs. In an effort to keep youth with higher needs in families\, resource parents must have specialized knowledge and skills.  The interactive and engaging content includes lectures\, videos\, activities\, and discussion. It provides many opportunities for participants to learn from each other while building their knowledge and skills. \nThis class will be held online and a link to the class will be sent out ahead of time.
URL:https://familyforwardmo.org/calendar/level-a-youth-with-elevated-needs-core-teen-curriculum/2026-03-04/
LOCATION:Virtual Event
END:VEVENT
BEGIN:VEVENT
DTSTART;TZID=America/Chicago:20260311T180000
DTEND;TZID=America/Chicago:20260311T210000
DTSTAMP:20260423T035512
CREATED:20251218T051353Z
LAST-MODIFIED:20251218T051353Z
UID:10000383-1773252000-1773262800@familyforwardmo.org
SUMMARY:Level A-Youth with Elevated Needs CORE Teen Curriculum
DESCRIPTION:The content is intended to increase the knowledge and skills of those who will be parenting teens with moderate to severe emotional and behavioral needs. In an effort to keep youth with higher needs in families\, resource parents must have specialized knowledge and skills.  The interactive and engaging content includes lectures\, videos\, activities\, and discussion. It provides many opportunities for participants to learn from each other while building their knowledge and skills. \nThis class will be held online and a link to the class will be sent out ahead of time.
URL:https://familyforwardmo.org/calendar/level-a-youth-with-elevated-needs-core-teen-curriculum/2026-03-11/
LOCATION:Virtual Event
END:VEVENT
BEGIN:VEVENT
DTSTART;TZID=America/Chicago:20260312T180000
DTEND;TZID=America/Chicago:20260312T200000
DTSTAMP:20260423T035512
CREATED:20251218T043310Z
LAST-MODIFIED:20251218T051609Z
UID:10000388-1773338400-1773345600@familyforwardmo.org
SUMMARY:Show Me Healthy Kids Presentation\, Mary Mogg\, MSW Presenter
DESCRIPTION:SMHK offers several benefits that you may not know about\, such as earning money for well care doctor visits\, transportation services for birth parents to visit their children\, and free sensory kits for some children. Get help as you navigate the healthcare system so members can get the treatments and benefits they need. \nThis class will be held online and a link to the class will be sent out ahead of time.
URL:https://familyforwardmo.org/calendar/show-me-healthy-kids-presentation-mary-mogg-msw-presenter-3/2026-03-12/
LOCATION:Virtual Event
END:VEVENT
BEGIN:VEVENT
DTSTART;TZID=America/Chicago:20260318T180000
DTEND;TZID=America/Chicago:20260318T210000
DTSTAMP:20260423T035512
CREATED:20251218T051353Z
LAST-MODIFIED:20251218T051353Z
UID:10000384-1773856800-1773867600@familyforwardmo.org
SUMMARY:Level A-Youth with Elevated Needs CORE Teen Curriculum
DESCRIPTION:The content is intended to increase the knowledge and skills of those who will be parenting teens with moderate to severe emotional and behavioral needs. In an effort to keep youth with higher needs in families\, resource parents must have specialized knowledge and skills.  The interactive and engaging content includes lectures\, videos\, activities\, and discussion. It provides many opportunities for participants to learn from each other while building their knowledge and skills. \nThis class will be held online and a link to the class will be sent out ahead of time.
URL:https://familyforwardmo.org/calendar/level-a-youth-with-elevated-needs-core-teen-curriculum/2026-03-18/
LOCATION:Virtual Event
END:VEVENT
BEGIN:VEVENT
DTSTART;TZID=America/Chicago:20260325T180000
DTEND;TZID=America/Chicago:20260325T210000
DTSTAMP:20260423T035512
CREATED:20251218T051353Z
LAST-MODIFIED:20251218T051353Z
UID:10000385-1774461600-1774472400@familyforwardmo.org
SUMMARY:Level A-Youth with Elevated Needs CORE Teen Curriculum
DESCRIPTION:The content is intended to increase the knowledge and skills of those who will be parenting teens with moderate to severe emotional and behavioral needs. In an effort to keep youth with higher needs in families\, resource parents must have specialized knowledge and skills.  The interactive and engaging content includes lectures\, videos\, activities\, and discussion. It provides many opportunities for participants to learn from each other while building their knowledge and skills. \nThis class will be held online and a link to the class will be sent out ahead of time.
URL:https://familyforwardmo.org/calendar/level-a-youth-with-elevated-needs-core-teen-curriculum/2026-03-25/
LOCATION:Virtual Event
END:VEVENT
END:VCALENDAR