BEGIN:VCALENDAR
VERSION:2.0
PRODID:-//FamilyForward - ECPv6.15.20//NONSGML v1.0//EN
CALSCALE:GREGORIAN
METHOD:PUBLISH
X-WR-CALNAME:FamilyForward
X-ORIGINAL-URL:https://familyforwardmo.org
X-WR-CALDESC:Events for FamilyForward
REFRESH-INTERVAL;VALUE=DURATION:PT1H
X-Robots-Tag:noindex
X-PUBLISHED-TTL:PT1H
BEGIN:VTIMEZONE
TZID:America/Chicago
BEGIN:DAYLIGHT
TZOFFSETFROM:-0600
TZOFFSETTO:-0500
TZNAME:CDT
DTSTART:20250309T080000
END:DAYLIGHT
BEGIN:STANDARD
TZOFFSETFROM:-0500
TZOFFSETTO:-0600
TZNAME:CST
DTSTART:20251102T070000
END:STANDARD
BEGIN:DAYLIGHT
TZOFFSETFROM:-0600
TZOFFSETTO:-0500
TZNAME:CDT
DTSTART:20260308T080000
END:DAYLIGHT
BEGIN:STANDARD
TZOFFSETFROM:-0500
TZOFFSETTO:-0600
TZNAME:CST
DTSTART:20261101T070000
END:STANDARD
BEGIN:DAYLIGHT
TZOFFSETFROM:-0600
TZOFFSETTO:-0500
TZNAME:CDT
DTSTART:20270314T080000
END:DAYLIGHT
BEGIN:STANDARD
TZOFFSETFROM:-0500
TZOFFSETTO:-0600
TZNAME:CST
DTSTART:20271107T070000
END:STANDARD
END:VTIMEZONE
BEGIN:VEVENT
DTSTART;TZID=America/Chicago:20260501T120000
DTEND;TZID=America/Chicago:20260501T133000
DTSTAMP:20260421T123906
CREATED:20260409T142559Z
LAST-MODIFIED:20260415T221016Z
UID:10000393-1777636800-1777642200@familyforwardmo.org
SUMMARY:Preparing for Adulthood: Lunch & Learn
DESCRIPTION:From the National Development & Training Curriculum (NTDC): This theme provides an overview of the common skills youth will need to effectively navigate as an adult and provide strategies on how families who are fostering or adopting can prepare youth to successfully transition into adulthood. The theme highlights the variance that can exist between chronological and developmental age for children who have experienced trauma\, separation and loss and how this can impact the transition to adulthood. Some of the challenges that youth may face during this transition are highlighted \nThis class will be held online and a link to the class will be sent out ahead of time.
URL:https://familyforwardmo.org/calendar/preparing-for-adulthood/
LOCATION:Virtual Event
CATEGORIES:Adoptive and Foster Parent Trainings
END:VEVENT
BEGIN:VEVENT
DTSTART;TZID=America/Chicago:20260518T180000
DTEND;TZID=America/Chicago:20260518T210000
DTSTAMP:20260421T123906
CREATED:20260409T144028Z
LAST-MODIFIED:20260409T144101Z
UID:10000394-1779127200-1779138000@familyforwardmo.org
SUMMARY:Improving Executive Function in Children
DESCRIPTION:Many children have difficulty with organizing\, planning\, goal setting\, time management and retaining things in their memory.  What looks like defiance and laziness in the child may reflect a deficiency in their executive skills.  Parents will learn how to help their child function better in the home setting utilizing common practices used by classroom teachers. \nThis class will be held online and a link to the class will be sent out ahead of time.
URL:https://familyforwardmo.org/calendar/improving-executive-function-in-children/
LOCATION:Virtual Event
CATEGORIES:Adoptive and Foster Parent Trainings
END:VEVENT
END:VCALENDAR