BEGIN:VCALENDAR
VERSION:2.0
PRODID:-//FamilyForward - ECPv6.15.20//NONSGML v1.0//EN
CALSCALE:GREGORIAN
METHOD:PUBLISH
X-ORIGINAL-URL:https://familyforwardmo.org
X-WR-CALDESC:Events for FamilyForward
REFRESH-INTERVAL;VALUE=DURATION:PT1H
X-Robots-Tag:noindex
X-PUBLISHED-TTL:PT1H
BEGIN:VTIMEZONE
TZID:America/Chicago
BEGIN:DAYLIGHT
TZOFFSETFROM:-0600
TZOFFSETTO:-0500
TZNAME:CDT
DTSTART:20240310T080000
END:DAYLIGHT
BEGIN:STANDARD
TZOFFSETFROM:-0500
TZOFFSETTO:-0600
TZNAME:CST
DTSTART:20241103T070000
END:STANDARD
BEGIN:DAYLIGHT
TZOFFSETFROM:-0600
TZOFFSETTO:-0500
TZNAME:CDT
DTSTART:20250309T080000
END:DAYLIGHT
BEGIN:STANDARD
TZOFFSETFROM:-0500
TZOFFSETTO:-0600
TZNAME:CST
DTSTART:20251102T070000
END:STANDARD
BEGIN:DAYLIGHT
TZOFFSETFROM:-0600
TZOFFSETTO:-0500
TZNAME:CDT
DTSTART:20260308T080000
END:DAYLIGHT
BEGIN:STANDARD
TZOFFSETFROM:-0500
TZOFFSETTO:-0600
TZNAME:CST
DTSTART:20261101T070000
END:STANDARD
END:VTIMEZONE
BEGIN:VEVENT
DTSTART;TZID=America/Chicago:20251218T180000
DTEND;TZID=America/Chicago:20251218T210000
DTSTAMP:20260422T065039
CREATED:20251103T195918Z
LAST-MODIFIED:20251103T195918Z
UID:10000365-1766080800-1766091600@familyforwardmo.org
SUMMARY:Spaulding Adoption Training
DESCRIPTION:Spaulding/Adoption training is a twelve-hour course that provides families with the tools and information they need to understand the Missouri adoption process.    The training is facilitated by an experienced adoptive parent and a child welfare professional. \nAll sessions MUST be completed as a requirement for licensure to adopt. \nMore than one absence will require the attendee to start the training over.  Please Contact Jack C. Rosenburg at: jack.c.rosenburg@dss.mo.gov or Khirsten B. Miller at: Khirsten.B.Miller@dss.mo.gov for registration and additional information. \nTHIS TRAINING WILL BE HELD IN PERSON
URL:https://familyforwardmo.org/calendar/spaulding-adoption-training-7/2025-12-18/
LOCATION:FamilyForward – Developmental Trauma Center\, 11358 Van Cleve Ave.\, Saint Louis\, MO\, 63114\, United States
END:VEVENT
BEGIN:VEVENT
DTSTART;TZID=America/Chicago:20251215T180000
DTEND;TZID=America/Chicago:20251215T210000
DTSTAMP:20260422T065039
CREATED:20251103T195918Z
LAST-MODIFIED:20251103T195918Z
UID:10000364-1765821600-1765832400@familyforwardmo.org
SUMMARY:Spaulding Adoption Training
DESCRIPTION:Spaulding/Adoption training is a twelve-hour course that provides families with the tools and information they need to understand the Missouri adoption process.    The training is facilitated by an experienced adoptive parent and a child welfare professional. \nAll sessions MUST be completed as a requirement for licensure to adopt. \nMore than one absence will require the attendee to start the training over.  Please Contact Jack C. Rosenburg at: jack.c.rosenburg@dss.mo.gov or Khirsten B. Miller at: Khirsten.B.Miller@dss.mo.gov for registration and additional information. \nTHIS TRAINING WILL BE HELD IN PERSON
URL:https://familyforwardmo.org/calendar/spaulding-adoption-training-7/2025-12-15/
LOCATION:FamilyForward – Developmental Trauma Center\, 11358 Van Cleve Ave.\, Saint Louis\, MO\, 63114\, United States
END:VEVENT
BEGIN:VEVENT
DTSTART;TZID=America/Chicago:20251211T180000
DTEND;TZID=America/Chicago:20251211T210000
DTSTAMP:20260422T065039
CREATED:20251103T195918Z
LAST-MODIFIED:20251103T195918Z
UID:10000363-1765476000-1765486800@familyforwardmo.org
SUMMARY:Spaulding Adoption Training
DESCRIPTION:Spaulding/Adoption training is a twelve-hour course that provides families with the tools and information they need to understand the Missouri adoption process.    The training is facilitated by an experienced adoptive parent and a child welfare professional. \nAll sessions MUST be completed as a requirement for licensure to adopt. \nMore than one absence will require the attendee to start the training over.  Please Contact Jack C. Rosenburg at: jack.c.rosenburg@dss.mo.gov or Khirsten B. Miller at: Khirsten.B.Miller@dss.mo.gov for registration and additional information. \nTHIS TRAINING WILL BE HELD IN PERSON
URL:https://familyforwardmo.org/calendar/spaulding-adoption-training-7/2025-12-11/
LOCATION:FamilyForward – Developmental Trauma Center\, 11358 Van Cleve Ave.\, Saint Louis\, MO\, 63114\, United States
END:VEVENT
BEGIN:VEVENT
DTSTART;TZID=America/Chicago:20251208T180000
DTEND;TZID=America/Chicago:20251208T210000
DTSTAMP:20260422T065039
CREATED:20251103T195918Z
LAST-MODIFIED:20251103T195918Z
UID:10000362-1765216800-1765227600@familyforwardmo.org
SUMMARY:Spaulding Adoption Training
DESCRIPTION:Spaulding/Adoption training is a twelve-hour course that provides families with the tools and information they need to understand the Missouri adoption process.    The training is facilitated by an experienced adoptive parent and a child welfare professional. \nAll sessions MUST be completed as a requirement for licensure to adopt. \nMore than one absence will require the attendee to start the training over.  Please Contact Jack C. Rosenburg at: jack.c.rosenburg@dss.mo.gov or Khirsten B. Miller at: Khirsten.B.Miller@dss.mo.gov for registration and additional information. \nTHIS TRAINING WILL BE HELD IN PERSON
URL:https://familyforwardmo.org/calendar/spaulding-adoption-training-7/2025-12-08/
LOCATION:FamilyForward – Developmental Trauma Center\, 11358 Van Cleve Ave.\, Saint Louis\, MO\, 63114\, United States
END:VEVENT
BEGIN:VEVENT
DTSTART;TZID=America/Chicago:20251119T180000
DTEND;TZID=America/Chicago:20251119T210000
DTSTAMP:20260422T065039
CREATED:20250623T194449Z
LAST-MODIFIED:20250623T194449Z
UID:10000341-1763575200-1763586000@familyforwardmo.org
SUMMARY:MO C.A.R.E Preservice Training
DESCRIPTION:Preservice training is required of any individual wishing to be licensed as a foster parent through the state of Missouri.  Please contact:   \n Khirsten.B.Miller@dss.mo.gov by email or call her on her direct line at 314-264-7688 (Direct) or  \nJack.C.Rosenburg@dss.mo.gov by email or call him on his direct line at 314.264-7717 to enroll in MO C.A.R.E. 
URL:https://familyforwardmo.org/calendar/mo-c-a-r-e-preservice-training-14/
LOCATION:FamilyForward – Developmental Trauma Center\, 11358 Van Cleve Ave.\, Saint Louis\, MO\, 63114\, United States
CATEGORIES:Adoptive and Foster Parent Trainings
END:VEVENT
BEGIN:VEVENT
DTSTART;TZID=America/Chicago:20251118T093000
DTEND;TZID=America/Chicago:20251118T113000
DTSTAMP:20260422T065039
CREATED:20250919T183007Z
LAST-MODIFIED:20250919T183007Z
UID:10000358-1763458200-1763465400@familyforwardmo.org
SUMMARY:Show Me Healthy Kids Presentation: Mary Mogg\, MSW Presenter
DESCRIPTION:SMHK offers several benefits that you may not know about\, such as earning money for well care doctor visits\, transportation services for birth parents to visit their children\, and free sensory kits for some children. Get help as you navigate the healthcare system so members can get the treatments and benefits they need.
URL:https://familyforwardmo.org/calendar/show-me-healthy-kids-presentation-mary-mogg-msw-presenter-2/
LOCATION:FamilyForward – Developmental Trauma Center\, 11358 Van Cleve Ave.\, Saint Louis\, MO\, 63114\, United States
END:VEVENT
BEGIN:VEVENT
DTSTART;TZID=America/Chicago:20251110T180000
DTEND;TZID=America/Chicago:20251110T203000
DTSTAMP:20260422T065039
CREATED:20250919T182708Z
LAST-MODIFIED:20251008T212122Z
UID:10000357-1762797600-1762806600@familyforwardmo.org
SUMMARY:Holiday Stress
DESCRIPTION:The holidays often bring much excitement and celebration for families. But for children who have experienced the disruption of being separated from their families\, holidays can be a time of great emotional upheaval. The stress level can become intolerable. This workshop will help parents see the holidays through their child’s eyes and give tips on navigating this wonderful time of year. \nThis course will be held IN PERSON at our Developmental Trauma Center.
URL:https://familyforwardmo.org/calendar/holiday-stress-4/
LOCATION:FamilyForward – Developmental Trauma Center\, 11358 Van Cleve Ave.\, Saint Louis\, MO\, 63114\, United States
END:VEVENT
BEGIN:VEVENT
DTSTART;TZID=America/Chicago:20251027T180000
DTEND;TZID=America/Chicago:20251027T210000
DTSTAMP:20260422T065039
CREATED:20250919T150955Z
LAST-MODIFIED:20251008T211117Z
UID:10000352-1761588000-1761598800@familyforwardmo.org
SUMMARY:Spaulding/Adoption Training
DESCRIPTION:Spaulding is a twelve-hour course that provides families with the tools and information they need to understand the Missouri adoption process. The training is facilitated by an experienced adoptive parent and a child welfare professional. All sessions MUST be completed as a requirement for licensure to adopt. More than one absence will require the attendee to start the training over. \nPlease Contact Jack C. Rosenburg at: jack.c.rosenburg@dss.mo.gov or Khirsten B. Miller at: Khirsten.B.Miller@dss.mo.gov for registration and additional information. \nThis event will be held IN PERSON at our Developmental Trauma Center.
URL:https://familyforwardmo.org/calendar/spaulding-adoption-training-6/2025-10-27/
LOCATION:FamilyForward – Developmental Trauma Center\, 11358 Van Cleve Ave.\, Saint Louis\, MO\, 63114\, United States
END:VEVENT
BEGIN:VEVENT
DTSTART;TZID=America/Chicago:20251020T180000
DTEND;TZID=America/Chicago:20251020T210000
DTSTAMP:20260422T065039
CREATED:20250919T150955Z
LAST-MODIFIED:20251008T211117Z
UID:10000351-1760983200-1760994000@familyforwardmo.org
SUMMARY:Spaulding/Adoption Training
DESCRIPTION:Spaulding is a twelve-hour course that provides families with the tools and information they need to understand the Missouri adoption process. The training is facilitated by an experienced adoptive parent and a child welfare professional. All sessions MUST be completed as a requirement for licensure to adopt. More than one absence will require the attendee to start the training over. \nPlease Contact Jack C. Rosenburg at: jack.c.rosenburg@dss.mo.gov or Khirsten B. Miller at: Khirsten.B.Miller@dss.mo.gov for registration and additional information. \nThis event will be held IN PERSON at our Developmental Trauma Center.
URL:https://familyforwardmo.org/calendar/spaulding-adoption-training-6/2025-10-20/
LOCATION:FamilyForward – Developmental Trauma Center\, 11358 Van Cleve Ave.\, Saint Louis\, MO\, 63114\, United States
END:VEVENT
BEGIN:VEVENT
DTSTART;TZID=America/Chicago:20251016T180000
DTEND;TZID=America/Chicago:20251016T200000
DTSTAMP:20260422T065039
CREATED:20250919T151600Z
LAST-MODIFIED:20251008T211000Z
UID:10000354-1760637600-1760644800@familyforwardmo.org
SUMMARY:Show Me Healthy Kids Presentation: Mary Mogg\, MSW Presenter
DESCRIPTION:SMHK offers several benefits that you may not know about\, such as earning money for well care doctor visits\, transportation services for birth parents to visit their children\, and free sensory kits for some children. Get help as you navigate the healthcare system so members can get the treatments and benefits they need. \nThis event will be held IN PERSON at our Developmental Trauma Center.
URL:https://familyforwardmo.org/calendar/show-me-healthy-kids-presentation-mary-mogg-msw-presenter/
LOCATION:FamilyForward – Developmental Trauma Center\, 11358 Van Cleve Ave.\, Saint Louis\, MO\, 63114\, United States
END:VEVENT
BEGIN:VEVENT
DTSTART;TZID=America/Chicago:20251013T180000
DTEND;TZID=America/Chicago:20251013T210000
DTSTAMP:20260422T065039
CREATED:20250919T150955Z
LAST-MODIFIED:20251008T211117Z
UID:10000350-1760378400-1760389200@familyforwardmo.org
SUMMARY:Spaulding/Adoption Training
DESCRIPTION:Spaulding is a twelve-hour course that provides families with the tools and information they need to understand the Missouri adoption process. The training is facilitated by an experienced adoptive parent and a child welfare professional. All sessions MUST be completed as a requirement for licensure to adopt. More than one absence will require the attendee to start the training over. \nPlease Contact Jack C. Rosenburg at: jack.c.rosenburg@dss.mo.gov or Khirsten B. Miller at: Khirsten.B.Miller@dss.mo.gov for registration and additional information. \nThis event will be held IN PERSON at our Developmental Trauma Center.
URL:https://familyforwardmo.org/calendar/spaulding-adoption-training-6/2025-10-13/
LOCATION:FamilyForward – Developmental Trauma Center\, 11358 Van Cleve Ave.\, Saint Louis\, MO\, 63114\, United States
END:VEVENT
BEGIN:VEVENT
DTSTART;TZID=America/Chicago:20251007T180000
DTEND;TZID=America/Chicago:20251007T203000
DTSTAMP:20260422T065039
CREATED:20250919T151221Z
LAST-MODIFIED:20251008T211200Z
UID:10000353-1759860000-1759869000@familyforwardmo.org
SUMMARY:Humor in Parenting
DESCRIPTION:When parenting children with unique challenges\, it is especially important not to take yourself too seriously. This workshop will explore the nature of humor and how to incorporate it into your life as a parent. \nThis event will be held IN PERSON at our Developmental Trauma Center.
URL:https://familyforwardmo.org/calendar/humor-in-parenting-2/
LOCATION:FamilyForward – Developmental Trauma Center\, 11358 Van Cleve Ave.\, Saint Louis\, MO\, 63114\, United States
END:VEVENT
BEGIN:VEVENT
DTSTART;TZID=America/Chicago:20251006T180000
DTEND;TZID=America/Chicago:20251006T210000
DTSTAMP:20260422T065039
CREATED:20250919T150955Z
LAST-MODIFIED:20251008T211117Z
UID:10000349-1759773600-1759784400@familyforwardmo.org
SUMMARY:Spaulding/Adoption Training
DESCRIPTION:Spaulding is a twelve-hour course that provides families with the tools and information they need to understand the Missouri adoption process. The training is facilitated by an experienced adoptive parent and a child welfare professional. All sessions MUST be completed as a requirement for licensure to adopt. More than one absence will require the attendee to start the training over. \nPlease Contact Jack C. Rosenburg at: jack.c.rosenburg@dss.mo.gov or Khirsten B. Miller at: Khirsten.B.Miller@dss.mo.gov for registration and additional information. \nThis event will be held IN PERSON at our Developmental Trauma Center.
URL:https://familyforwardmo.org/calendar/spaulding-adoption-training-6/2025-10-06/
LOCATION:FamilyForward – Developmental Trauma Center\, 11358 Van Cleve Ave.\, Saint Louis\, MO\, 63114\, United States
END:VEVENT
BEGIN:VEVENT
DTSTART;TZID=America/Chicago:20250917T180000
DTEND;TZID=America/Chicago:20250917T210000
DTSTAMP:20260422T065039
CREATED:20250623T194140Z
LAST-MODIFIED:20250623T194558Z
UID:10000332-1758132000-1758142800@familyforwardmo.org
SUMMARY:MO C.A.R.E Preservice Training
DESCRIPTION:Preservice training is required of any individual wishing to be licensed as a foster parent through the state of Missouri.  Please contact:   \n Khirsten.B.Miller@dss.mo.gov by email or call her on her direct line at 314-264-7688 (Direct) or  \nJack.C.Rosenburg@dss.mo.gov by email or call him on his direct line at 314.264-7717 to enroll in MO C.A.R.E. 
URL:https://familyforwardmo.org/calendar/mo-c-a-r-e-preservice-training-12/
LOCATION:FamilyForward – Developmental Trauma Center\, 11358 Van Cleve Ave.\, Saint Louis\, MO\, 63114\, United States
CATEGORIES:Adoptive and Foster Parent Trainings
END:VEVENT
BEGIN:VEVENT
DTSTART;TZID=America/Chicago:20250909T180000
DTEND;TZID=America/Chicago:20250909T203000
DTSTAMP:20260422T065039
CREATED:20250623T193746Z
LAST-MODIFIED:20250623T193746Z
UID:10000329-1757440800-1757449800@familyforwardmo.org
SUMMARY:Understanding The Effects of Sexual Abuse
DESCRIPTION:Parenting a child with a history of sexual abuse can be frightening—from responding to the child’s acting out behavior to dealing with emotions. Discussions focus on the best ways to address the effects of trauma and help your child heal. Sex trafficking will be discussed in this training. This is a two-week class\, and attendance at both weeks is strongly encouraged.
URL:https://familyforwardmo.org/calendar/understanding-the-effects-of-sexual-abuse-6/2025-09-09/
LOCATION:FamilyForward – Developmental Trauma Center\, 11358 Van Cleve Ave.\, Saint Louis\, MO\, 63114\, United States
CATEGORIES:Adoptive and Foster Parent Trainings,Caregiver Groups
END:VEVENT
BEGIN:VEVENT
DTSTART;TZID=America/Chicago:20250902T180000
DTEND;TZID=America/Chicago:20250902T203000
DTSTAMP:20260422T065039
CREATED:20250623T193746Z
LAST-MODIFIED:20250623T193746Z
UID:10000328-1756836000-1756845000@familyforwardmo.org
SUMMARY:Understanding The Effects of Sexual Abuse
DESCRIPTION:Parenting a child with a history of sexual abuse can be frightening—from responding to the child’s acting out behavior to dealing with emotions. Discussions focus on the best ways to address the effects of trauma and help your child heal. Sex trafficking will be discussed in this training. This is a two-week class\, and attendance at both weeks is strongly encouraged.
URL:https://familyforwardmo.org/calendar/understanding-the-effects-of-sexual-abuse-6/2025-09-02/
LOCATION:FamilyForward – Developmental Trauma Center\, 11358 Van Cleve Ave.\, Saint Louis\, MO\, 63114\, United States
CATEGORIES:Adoptive and Foster Parent Trainings,Caregiver Groups
END:VEVENT
BEGIN:VEVENT
DTSTART;TZID=America/Chicago:20250818T180000
DTEND;TZID=America/Chicago:20250818T210000
DTSTAMP:20260422T065039
CREATED:20250407T174519Z
LAST-MODIFIED:20250807T185340Z
UID:10000322-1755540000-1755550800@familyforwardmo.org
SUMMARY:MO C.A.R.E. Preservice Training
DESCRIPTION:Preservice training is required of any individual wishing to be licensed as a foster parent through the state of Missouri. Please contact Jack.C.Rosenburg@dss.mo.gov or Khirsten.B.Miller@dss.mo.gov for information and registration.
URL:https://familyforwardmo.org/calendar/mo-c-a-r-e-preservice-training-11/2025-08-18/
LOCATION:FamilyForward – Developmental Trauma Center\, 11358 Van Cleve Ave.\, Saint Louis\, MO\, 63114\, United States
CATEGORIES:Adoptive and Foster Parent Trainings
END:VEVENT
BEGIN:VEVENT
DTSTART;TZID=America/Chicago:20250811T180000
DTEND;TZID=America/Chicago:20250811T210000
DTSTAMP:20260422T065039
CREATED:20250407T174519Z
LAST-MODIFIED:20250807T185340Z
UID:10000321-1754935200-1754946000@familyforwardmo.org
SUMMARY:MO C.A.R.E. Preservice Training
DESCRIPTION:Preservice training is required of any individual wishing to be licensed as a foster parent through the state of Missouri. Please contact Jack.C.Rosenburg@dss.mo.gov or Khirsten.B.Miller@dss.mo.gov for information and registration.
URL:https://familyforwardmo.org/calendar/mo-c-a-r-e-preservice-training-11/2025-08-11/
LOCATION:FamilyForward – Developmental Trauma Center\, 11358 Van Cleve Ave.\, Saint Louis\, MO\, 63114\, United States
CATEGORIES:Adoptive and Foster Parent Trainings
END:VEVENT
BEGIN:VEVENT
DTSTART;TZID=America/Chicago:20250804T180000
DTEND;TZID=America/Chicago:20250804T210000
DTSTAMP:20260422T065039
CREATED:20250407T174519Z
LAST-MODIFIED:20250807T185340Z
UID:10000320-1754330400-1754341200@familyforwardmo.org
SUMMARY:MO C.A.R.E. Preservice Training
DESCRIPTION:Preservice training is required of any individual wishing to be licensed as a foster parent through the state of Missouri. Please contact Jack.C.Rosenburg@dss.mo.gov or Khirsten.B.Miller@dss.mo.gov for information and registration.
URL:https://familyforwardmo.org/calendar/mo-c-a-r-e-preservice-training-11/2025-08-04/
LOCATION:FamilyForward – Developmental Trauma Center\, 11358 Van Cleve Ave.\, Saint Louis\, MO\, 63114\, United States
CATEGORIES:Adoptive and Foster Parent Trainings
END:VEVENT
BEGIN:VEVENT
DTSTART;TZID=America/Chicago:20250728T180000
DTEND;TZID=America/Chicago:20250728T210000
DTSTAMP:20260422T065039
CREATED:20250407T174519Z
LAST-MODIFIED:20250807T185340Z
UID:10000319-1753725600-1753736400@familyforwardmo.org
SUMMARY:MO C.A.R.E. Preservice Training
DESCRIPTION:Preservice training is required of any individual wishing to be licensed as a foster parent through the state of Missouri. Please contact Jack.C.Rosenburg@dss.mo.gov or Khirsten.B.Miller@dss.mo.gov for information and registration.
URL:https://familyforwardmo.org/calendar/mo-c-a-r-e-preservice-training-11/2025-07-28/
LOCATION:FamilyForward – Developmental Trauma Center\, 11358 Van Cleve Ave.\, Saint Louis\, MO\, 63114\, United States
CATEGORIES:Adoptive and Foster Parent Trainings
END:VEVENT
BEGIN:VEVENT
DTSTART;TZID=America/Chicago:20250721T180000
DTEND;TZID=America/Chicago:20250721T210000
DTSTAMP:20260422T065039
CREATED:20250407T174519Z
LAST-MODIFIED:20250807T185340Z
UID:10000318-1753120800-1753131600@familyforwardmo.org
SUMMARY:MO C.A.R.E. Preservice Training
DESCRIPTION:Preservice training is required of any individual wishing to be licensed as a foster parent through the state of Missouri. Please contact Jack.C.Rosenburg@dss.mo.gov or Khirsten.B.Miller@dss.mo.gov for information and registration.
URL:https://familyforwardmo.org/calendar/mo-c-a-r-e-preservice-training-11/2025-07-21/
LOCATION:FamilyForward – Developmental Trauma Center\, 11358 Van Cleve Ave.\, Saint Louis\, MO\, 63114\, United States
CATEGORIES:Adoptive and Foster Parent Trainings
END:VEVENT
BEGIN:VEVENT
DTSTART;TZID=America/Chicago:20250714T180000
DTEND;TZID=America/Chicago:20250714T210000
DTSTAMP:20260422T065039
CREATED:20250407T174519Z
LAST-MODIFIED:20250807T185340Z
UID:10000317-1752516000-1752526800@familyforwardmo.org
SUMMARY:MO C.A.R.E. Preservice Training
DESCRIPTION:Preservice training is required of any individual wishing to be licensed as a foster parent through the state of Missouri. Please contact Jack.C.Rosenburg@dss.mo.gov or Khirsten.B.Miller@dss.mo.gov for information and registration.
URL:https://familyforwardmo.org/calendar/mo-c-a-r-e-preservice-training-11/2025-07-14/
LOCATION:FamilyForward – Developmental Trauma Center\, 11358 Van Cleve Ave.\, Saint Louis\, MO\, 63114\, United States
CATEGORIES:Adoptive and Foster Parent Trainings
END:VEVENT
BEGIN:VEVENT
DTSTART;TZID=America/Chicago:20250707T180000
DTEND;TZID=America/Chicago:20250707T210000
DTSTAMP:20260422T065039
CREATED:20250407T174519Z
LAST-MODIFIED:20250807T185340Z
UID:10000316-1751911200-1751922000@familyforwardmo.org
SUMMARY:MO C.A.R.E. Preservice Training
DESCRIPTION:Preservice training is required of any individual wishing to be licensed as a foster parent through the state of Missouri. Please contact Jack.C.Rosenburg@dss.mo.gov or Khirsten.B.Miller@dss.mo.gov for information and registration.
URL:https://familyforwardmo.org/calendar/mo-c-a-r-e-preservice-training-11/2025-07-07/
LOCATION:FamilyForward – Developmental Trauma Center\, 11358 Van Cleve Ave.\, Saint Louis\, MO\, 63114\, United States
CATEGORIES:Adoptive and Foster Parent Trainings
END:VEVENT
BEGIN:VEVENT
DTSTART;TZID=America/Chicago:20250630T180000
DTEND;TZID=America/Chicago:20250630T210000
DTSTAMP:20260422T065039
CREATED:20250407T174519Z
LAST-MODIFIED:20250807T185340Z
UID:10000315-1751306400-1751317200@familyforwardmo.org
SUMMARY:MO C.A.R.E. Preservice Training
DESCRIPTION:Preservice training is required of any individual wishing to be licensed as a foster parent through the state of Missouri. Please contact Jack.C.Rosenburg@dss.mo.gov or Khirsten.B.Miller@dss.mo.gov for information and registration.
URL:https://familyforwardmo.org/calendar/mo-c-a-r-e-preservice-training-11/2025-06-30/
LOCATION:FamilyForward – Developmental Trauma Center\, 11358 Van Cleve Ave.\, Saint Louis\, MO\, 63114\, United States
CATEGORIES:Adoptive and Foster Parent Trainings
END:VEVENT
BEGIN:VEVENT
DTSTART;TZID=America/Chicago:20250625T180000
DTEND;TZID=America/Chicago:20250625T203000
DTSTAMP:20260422T065039
CREATED:20250407T175021Z
LAST-MODIFIED:20250407T175021Z
UID:10000324-1750874400-1750883400@familyforwardmo.org
SUMMARY:Film and Discussion: Paper Tigers
DESCRIPTION:This educational opportunity involves viewing of the film Paper Tigers\, a documentary about Lincoln High School\, a pioneer in advancing trauma sensitive responses to the effects of Adverse Childhood Experiences in the lives of its students. A guided discussion will allow viewers the opportunity to process themes highlighted in the film and the role that having a responsive educational team plays in the long-term outcomes for children with a history of trauma.
URL:https://familyforwardmo.org/calendar/film-and-discussion-paper-tigers/
LOCATION:FamilyForward – Developmental Trauma Center\, 11358 Van Cleve Ave.\, Saint Louis\, MO\, 63114\, United States
CATEGORIES:Adoptive and Foster Parent Trainings
END:VEVENT
BEGIN:VEVENT
DTSTART;TZID=America/Chicago:20250623T180000
DTEND;TZID=America/Chicago:20250623T210000
DTSTAMP:20260422T065039
CREATED:20250407T174519Z
LAST-MODIFIED:20250807T185340Z
UID:10000314-1750701600-1750712400@familyforwardmo.org
SUMMARY:MO C.A.R.E. Preservice Training
DESCRIPTION:Preservice training is required of any individual wishing to be licensed as a foster parent through the state of Missouri. Please contact Jack.C.Rosenburg@dss.mo.gov or Khirsten.B.Miller@dss.mo.gov for information and registration.
URL:https://familyforwardmo.org/calendar/mo-c-a-r-e-preservice-training-11/2025-06-23/
LOCATION:FamilyForward – Developmental Trauma Center\, 11358 Van Cleve Ave.\, Saint Louis\, MO\, 63114\, United States
CATEGORIES:Adoptive and Foster Parent Trainings
END:VEVENT
BEGIN:VEVENT
DTSTART;TZID=America/Chicago:20250616T180000
DTEND;TZID=America/Chicago:20250616T210000
DTSTAMP:20260422T065039
CREATED:20250407T174519Z
LAST-MODIFIED:20250807T185340Z
UID:10000313-1750096800-1750107600@familyforwardmo.org
SUMMARY:MO C.A.R.E. Preservice Training
DESCRIPTION:Preservice training is required of any individual wishing to be licensed as a foster parent through the state of Missouri. Please contact Jack.C.Rosenburg@dss.mo.gov or Khirsten.B.Miller@dss.mo.gov for information and registration.
URL:https://familyforwardmo.org/calendar/mo-c-a-r-e-preservice-training-11/2025-06-16/
LOCATION:FamilyForward – Developmental Trauma Center\, 11358 Van Cleve Ave.\, Saint Louis\, MO\, 63114\, United States
CATEGORIES:Adoptive and Foster Parent Trainings
END:VEVENT
BEGIN:VEVENT
DTSTART;TZID=America/Chicago:20250519T180000
DTEND;TZID=America/Chicago:20250519T210000
DTSTAMP:20260422T065039
CREATED:20250326T140242Z
LAST-MODIFIED:20250326T140242Z
UID:10000306-1747677600-1747688400@familyforwardmo.org
SUMMARY:Spaulding/Adoption Training
DESCRIPTION:Spaulding Adoption Training is a twelve-hour course that provides families with the tools and information they need to understand the Missouri adoption process. It is required in Missouri for families to become an adoptive resource for a child. The curriculum covers topics such as cultural competence\, attachment\, expectations\, and working as a member of a professional team. The discussion will include how creating a family through adoption differs from a biological family or foster parenting. The training is facilitated by an experienced adoptive parent and a child welfare professional. \nTo register\, call 314.968.2350 ext. 7234 or email intake.dept@familyforwardmo.org.
URL:https://familyforwardmo.org/calendar/spaulding-adoption-training-5/2025-05-19/
LOCATION:FamilyForward – Developmental Trauma Center\, 11358 Van Cleve Ave.\, Saint Louis\, MO\, 63114\, United States
CATEGORIES:Adoptive and Foster Parent Trainings
END:VEVENT
BEGIN:VEVENT
DTSTART;TZID=America/Chicago:20250514T180000
DTEND;TZID=America/Chicago:20250514T203000
DTSTAMP:20260422T065039
CREATED:20250326T140633Z
LAST-MODIFIED:20250326T140835Z
UID:10000308-1747245600-1747254600@familyforwardmo.org
SUMMARY:The Amazing Brain
DESCRIPTION:This training will provide parents with a deeper understanding of brain development from the moment of conception to maturation. The impact of early childhood trauma on the brain’s organization will be explored through a small group activity utilizing The Brain Architecture Game. Will your team be able to build a brain that stands up to toxic stress?
URL:https://familyforwardmo.org/calendar/the-amazing-brain-2/
LOCATION:FamilyForward – Developmental Trauma Center\, 11358 Van Cleve Ave.\, Saint Louis\, MO\, 63114\, United States
CATEGORIES:Adoptive and Foster Parent Trainings
END:VEVENT
BEGIN:VEVENT
DTSTART;TZID=America/Chicago:20250512T180000
DTEND;TZID=America/Chicago:20250512T210000
DTSTAMP:20260422T065039
CREATED:20250326T140242Z
LAST-MODIFIED:20250326T140242Z
UID:10000305-1747072800-1747083600@familyforwardmo.org
SUMMARY:Spaulding/Adoption Training
DESCRIPTION:Spaulding Adoption Training is a twelve-hour course that provides families with the tools and information they need to understand the Missouri adoption process. It is required in Missouri for families to become an adoptive resource for a child. The curriculum covers topics such as cultural competence\, attachment\, expectations\, and working as a member of a professional team. The discussion will include how creating a family through adoption differs from a biological family or foster parenting. The training is facilitated by an experienced adoptive parent and a child welfare professional. \nTo register\, call 314.968.2350 ext. 7234 or email intake.dept@familyforwardmo.org.
URL:https://familyforwardmo.org/calendar/spaulding-adoption-training-5/2025-05-12/
LOCATION:FamilyForward – Developmental Trauma Center\, 11358 Van Cleve Ave.\, Saint Louis\, MO\, 63114\, United States
CATEGORIES:Adoptive and Foster Parent Trainings
END:VEVENT
END:VCALENDAR